BEGIN:VCALENDAR
VERSION:2.0
PRODID:-//Centrum Judaicum - ECPv6.15.20//NONSGML v1.0//EN
CALSCALE:GREGORIAN
METHOD:PUBLISH
X-WR-CALNAME:Centrum Judaicum
X-ORIGINAL-URL:https://centrumjudaicum.de/en
X-WR-CALDESC:Events for Centrum Judaicum
REFRESH-INTERVAL;VALUE=DURATION:PT1H
X-Robots-Tag:noindex
X-PUBLISHED-TTL:PT1H
BEGIN:VTIMEZONE
TZID:Europe/Berlin
BEGIN:DAYLIGHT
TZOFFSETFROM:+0100
TZOFFSETTO:+0200
TZNAME:CEST
DTSTART:20250330T010000
END:DAYLIGHT
BEGIN:STANDARD
TZOFFSETFROM:+0200
TZOFFSETTO:+0100
TZNAME:CET
DTSTART:20251026T010000
END:STANDARD
BEGIN:DAYLIGHT
TZOFFSETFROM:+0100
TZOFFSETTO:+0200
TZNAME:CEST
DTSTART:20260329T010000
END:DAYLIGHT
BEGIN:STANDARD
TZOFFSETFROM:+0200
TZOFFSETTO:+0100
TZNAME:CET
DTSTART:20261025T010000
END:STANDARD
BEGIN:DAYLIGHT
TZOFFSETFROM:+0100
TZOFFSETTO:+0200
TZNAME:CEST
DTSTART:20270328T010000
END:DAYLIGHT
BEGIN:STANDARD
TZOFFSETFROM:+0200
TZOFFSETTO:+0100
TZNAME:CET
DTSTART:20271031T010000
END:STANDARD
END:VTIMEZONE
BEGIN:VEVENT
DTSTART;TZID=Europe/Berlin:20260724T110000
DTEND;TZID=Europe/Berlin:20260724T130000
DTSTAMP:20260422T104450
CREATED:20251209T151935Z
LAST-MODIFIED:20260309T155257Z
UID:26028-1784890800-1784898000@centrumjudaicum.de
SUMMARY:Queerness and Gender in Judaism – Tour & City Walk
DESCRIPTION:Using examples from religious texts and modern conflicts within different Jewish groups\, this tour explores the history of queerness and gender in Judaism. We will also look at the lives of queer Jews such as resistance fighter Herbert Budzislawski and social worker Hannah Karminski. Both lived\, loved\, and fought in the neighborhood of the New Synagogue. \n\n\n\nOn this tour we will visit the New Synagogue Berlin and the Spandauer Vorstadt\, where we will discuss not only the traditional role of women in Judaism but also Jewish women like Regina Jonas. As the first female rabbi in history\, Regina Jonas broke existing boundaries by fighting for her place as a Jewish spiritual leader. \n\n\n\n\nAnmeldung
URL:https://centrumjudaicum.de/en/veranstaltung/queerness-and-gender-in-judaism-tour-city-walk/
ATTACH;FMTTYPE=image/png:https://centrumjudaicum.de/wp-content/uploads/2023/08/Queerness-im-Judentum-2-1-ytW7n2.tmp_.png
END:VEVENT
END:VCALENDAR