BEGIN:VCALENDAR
VERSION:2.0
PRODID:-//Centrum Judaicum - ECPv6.15.20//NONSGML v1.0//EN
CALSCALE:GREGORIAN
METHOD:PUBLISH
X-WR-CALNAME:Centrum Judaicum
X-ORIGINAL-URL:https://centrumjudaicum.de
X-WR-CALDESC:Veranstaltungen für Centrum Judaicum
REFRESH-INTERVAL;VALUE=DURATION:PT1H
X-Robots-Tag:noindex
X-PUBLISHED-TTL:PT1H
BEGIN:VTIMEZONE
TZID:Europe/Berlin
BEGIN:DAYLIGHT
TZOFFSETFROM:+0100
TZOFFSETTO:+0200
TZNAME:CEST
DTSTART:20250330T010000
END:DAYLIGHT
BEGIN:STANDARD
TZOFFSETFROM:+0200
TZOFFSETTO:+0100
TZNAME:CET
DTSTART:20251026T010000
END:STANDARD
BEGIN:DAYLIGHT
TZOFFSETFROM:+0100
TZOFFSETTO:+0200
TZNAME:CEST
DTSTART:20260329T010000
END:DAYLIGHT
BEGIN:STANDARD
TZOFFSETFROM:+0200
TZOFFSETTO:+0100
TZNAME:CET
DTSTART:20261025T010000
END:STANDARD
BEGIN:DAYLIGHT
TZOFFSETFROM:+0100
TZOFFSETTO:+0200
TZNAME:CEST
DTSTART:20270328T010000
END:DAYLIGHT
BEGIN:STANDARD
TZOFFSETFROM:+0200
TZOFFSETTO:+0100
TZNAME:CET
DTSTART:20271031T010000
END:STANDARD
END:VTIMEZONE
BEGIN:VEVENT
DTSTART;TZID=Europe/Berlin:20260913T140000
DTEND;TZID=Europe/Berlin:20260913T150000
DTSTAMP:20260420T122626
CREATED:20260416T082128Z
LAST-MODIFIED:20260416T082336Z
UID:26743-1789308000-1789311600@centrumjudaicum.de
SUMMARY:Tag des offenen DenkmalsFührung durch die Mikwe  
DESCRIPTION:Führung durch die Mikwe   \n\n\n\nDas rituelle Tauchbad\, die Mikwe\, ist seit Jahrtausenden ein integraler Teil des jüdischen Lebens. Das regelmäßige Eintauchen in die Mikwe ist Teil des Lebensrhythmus eines/r religiösenJuden/Jüdin und geht einher mit den wichtigsten Lebensstadien\, wie etwa dem Erwachsenwerden\, der Ehe\, der Entbindung und dem Tod. An diesem Tag besuchen wir die (sonst nicht zugängliche) Mikwe unter der Neuen Synagoge\, eine der wenigen\, die in Berlin noch existiert. Mit Esther Kontarsky\, Mitglied der Synagogengemeinde Oranienburger Straße.  \n\n\n\nTreffpunkt: 14:00 Uhr im Kassenbereich des Museums. \n\n\n\n** Bitte kommen Sie 15 Minuten vor Beginn der Führung\, da die Sicherheitskontrolle am Eingang etwas Zeit in Anspruch nehmen kann. **  \n\n\n\n\n\n\nAnmeldung
URL:https://centrumjudaicum.de/veranstaltung/tag-des-offenen-denkmalsfuehrung-durch-die-mikwe/
CATEGORIES:Führung,Veranstaltungen
ATTACH;FMTTYPE=image/png:https://centrumjudaicum.de/wp-content/uploads/2026/04/8.png
END:VEVENT
END:VCALENDAR